BEGIN:VCALENDAR
VERSION:2.0
PRODID:-//Eversley Parish Council//Meeting Calendar//EN
CALSCALE:GREGORIAN
METHOD:PUBLISH
BEGIN:VEVENT
UID:75691-20250918@eversley-pc.gov.uk
DTSTAMP:20260422T091500Z
DTSTART;VALUE=DATE:20250918
DTEND;VALUE=DATE:20250919
SUMMARY:Neighbourhood Plan working Group – 18th September 2025
DESCRIPTION:Neighbourhood Plan Working Group Meeting\nView details: https://eversley-pc.gov.uk/meetings/neighbourhood-plan-working-group-18th-september-2025/
URL:https://eversley-pc.gov.uk/meetings/neighbourhood-plan-working-group-18th-september-2025/
END:VEVENT
END:VCALENDAR
