BEGIN:VCALENDAR
VERSION:2.0
PRODID:-//Eversley Parish Council//Meeting Calendar//EN
CALSCALE:GREGORIAN
METHOD:PUBLISH
BEGIN:VEVENT
UID:75688-20250731@eversley-pc.gov.uk
DTSTAMP:20260422T091419Z
DTSTART;VALUE=DATE:20250731
DTEND;VALUE=DATE:20250801
SUMMARY:Neighbourhood Plan working Group – 31st July 2025
DESCRIPTION:Neighbourhood Plan Working Group Meeting\nView details: https://eversley-pc.gov.uk/meetings/neighbourhood-plan-working-group-31st-july-2025/
URL:https://eversley-pc.gov.uk/meetings/neighbourhood-plan-working-group-31st-july-2025/
END:VEVENT
END:VCALENDAR
