BEGIN:VCALENDAR
VERSION:2.0
PRODID:-//Eversley Parish Council//Meeting Calendar//EN
CALSCALE:GREGORIAN
METHOD:PUBLISH
BEGIN:VEVENT
UID:75685-20250717@eversley-pc.gov.uk
DTSTAMP:20260422T104940Z
DTSTART;VALUE=DATE:20250717
DTEND;VALUE=DATE:20250718
SUMMARY:Neighbourhood Plan working Group – 17th July 2025
DESCRIPTION:Neighbourhood Plan Working Group Meeting\nView details: https://eversley-pc.gov.uk/meetings/neighbourhood-plan-working-group-17th-july-2025/
URL:https://eversley-pc.gov.uk/meetings/neighbourhood-plan-working-group-17th-july-2025/
END:VEVENT
END:VCALENDAR
