BEGIN:VCALENDAR
VERSION:2.0
PRODID:-//Eversley Parish Council//Meeting Calendar//EN
CALSCALE:GREGORIAN
METHOD:PUBLISH
BEGIN:VEVENT
UID:75682-20250703@eversley-pc.gov.uk
DTSTAMP:20260422T122351Z
DTSTART;VALUE=DATE:20250703
DTEND;VALUE=DATE:20250704
SUMMARY:Neighbourhood Plan working Group – 3rd July 2025
DESCRIPTION:Neighbourhood Plan Working Group Meeting\nView details: https://eversley-pc.gov.uk/meetings/neighbourhood-plan-working-group-3rd-july-2025/
URL:https://eversley-pc.gov.uk/meetings/neighbourhood-plan-working-group-3rd-july-2025/
END:VEVENT
END:VCALENDAR
