BEGIN:VCALENDAR
VERSION:2.0
PRODID:-//Eversley Parish Council//Meeting Calendar//EN
CALSCALE:GREGORIAN
METHOD:PUBLISH
BEGIN:VEVENT
UID:75679-20250619@eversley-pc.gov.uk
DTSTAMP:20260422T105544Z
DTSTART;VALUE=DATE:20250619
DTEND;VALUE=DATE:20250620
SUMMARY:Neighbourhood Plan working Group &#8211\\; 19th June 2025
DESCRIPTION:Neighbourhood Plan Working Group Meeting\nView details: https://eversley-pc.gov.uk/meetings/neighbourhood-plan-working-group-19th-june-2025/
URL:https://eversley-pc.gov.uk/meetings/neighbourhood-plan-working-group-19th-june-2025/
END:VEVENT
END:VCALENDAR
