BEGIN:VCALENDAR
VERSION:2.0
PRODID:-//Eversley Parish Council//Meeting Calendar//EN
CALSCALE:GREGORIAN
METHOD:PUBLISH
BEGIN:VEVENT
UID:75638-20260305@eversley-pc.gov.uk
DTSTAMP:20260422T091419Z
DTSTART;VALUE=DATE:20260305
DTEND;VALUE=DATE:20260306
SUMMARY:Annual Parish Assembly
DESCRIPTION:Annual Parish Assembly Meeting\nView details: https://eversley-pc.gov.uk/meetings/annual-parish-assembly-2/
URL:https://eversley-pc.gov.uk/meetings/annual-parish-assembly-2/
END:VEVENT
END:VCALENDAR
