BEGIN:VCALENDAR
VERSION:2.0
PRODID:-//Eversley Parish Council//Meeting Calendar//EN
CALSCALE:GREGORIAN
METHOD:PUBLISH
BEGIN:VEVENT
UID:71443-20251111@eversley-pc.gov.uk
DTSTAMP:20260421T093825Z
DTSTART;VALUE=DATE:20251111
DTEND;VALUE=DATE:20251112
SUMMARY:Open Spaces Committee Meeting &#8211\\; 11th November 2025
DESCRIPTION:Open Spaces Committee Meeting\nView details: https://eversley-pc.gov.uk/meetings/open-spaces-committee-meeting-11th-november-2025/
URL:https://eversley-pc.gov.uk/meetings/open-spaces-committee-meeting-11th-november-2025/
END:VEVENT
END:VCALENDAR
