BEGIN:VCALENDAR
VERSION:2.0
PRODID:-//Eversley Parish Council//Meeting Calendar//EN
CALSCALE:GREGORIAN
METHOD:PUBLISH
BEGIN:VEVENT
UID:71436-20250701@eversley-pc.gov.uk
DTSTAMP:20260420T094127Z
DTSTART;VALUE=DATE:20250701
DTEND;VALUE=DATE:20250702
SUMMARY:Full Council Meeting &#8211\\; 1st July 2025
DESCRIPTION:Full Council Meeting\nView details: https://eversley-pc.gov.uk/meetings/full-council-meeting-1st-july-2025/
URL:https://eversley-pc.gov.uk/meetings/full-council-meeting-1st-july-2025/
END:VEVENT
END:VCALENDAR
