BEGIN:VCALENDAR
VERSION:2.0
PRODID:-//Eversley Parish Council//Meeting Calendar//EN
CALSCALE:GREGORIAN
METHOD:PUBLISH
BEGIN:VEVENT
UID:70713-20250513@eversley-pc.gov.uk
DTSTAMP:20260421T102531Z
DTSTART;VALUE=DATE:20250513
DTEND;VALUE=DATE:20250514
SUMMARY:Annual Parish Council and Full Council meeting &#8211\\; 13th May 2025
DESCRIPTION:Full Council Meeting\nView details: https://eversley-pc.gov.uk/meetings/annual-parish-council-and-full-council-meeting/
URL:https://eversley-pc.gov.uk/meetings/annual-parish-council-and-full-council-meeting/
END:VEVENT
END:VCALENDAR
