BEGIN:VCALENDAR
VERSION:2.0
PRODID:-//Eversley Parish Council//Meeting Calendar//EN
CALSCALE:GREGORIAN
METHOD:PUBLISH
BEGIN:VEVENT
UID:70706-20250107@eversley-pc.gov.uk
DTSTAMP:20260422T104735Z
DTSTART;VALUE=DATE:20250107
DTEND;VALUE=DATE:20250108
SUMMARY:Full Council meeting &#8211\\; 7th January 2025
DESCRIPTION:Full Council Meeting\nView details: https://eversley-pc.gov.uk/meetings/full-council-meeting-3/
URL:https://eversley-pc.gov.uk/meetings/full-council-meeting-3/
END:VEVENT
END:VCALENDAR
