BEGIN:VCALENDAR
VERSION:2.0
PRODID:-//Eversley Parish Council//Meeting Calendar//EN
CALSCALE:GREGORIAN
METHOD:PUBLISH
BEGIN:VEVENT
UID:70705-20241203@eversley-pc.gov.uk
DTSTAMP:20260422T091407Z
DTSTART;VALUE=DATE:20241203
DTEND;VALUE=DATE:20241204
SUMMARY:Full Council meeting &#8211\\; 3rd December 2024
DESCRIPTION:Full Council Meeting\nView details: https://eversley-pc.gov.uk/meetings/full-council-meeting-2/
URL:https://eversley-pc.gov.uk/meetings/full-council-meeting-2/
END:VEVENT
END:VCALENDAR
