BEGIN:VCALENDAR
VERSION:2.0
PRODID:-//Eversley Parish Council//Meeting Calendar//EN
CALSCALE:GREGORIAN
METHOD:PUBLISH
BEGIN:VEVENT
UID:70556-20241001@eversley-pc.gov.uk
DTSTAMP:20260421T083332Z
DTSTART;VALUE=DATE:20241001
DTEND;VALUE=DATE:20241002
SUMMARY:Full Council Meeting &#8211\\; 1st October 2024
DESCRIPTION:Full Council Meeting\nView details: https://eversley-pc.gov.uk/meetings/council-meeting-1st-october-2024/
URL:https://eversley-pc.gov.uk/meetings/council-meeting-1st-october-2024/
END:VEVENT
END:VCALENDAR
