BEGIN:VCALENDAR
VERSION:2.0
PRODID:-//Eversley Parish Council//Meeting Calendar//EN
CALSCALE:GREGORIAN
METHOD:PUBLISH
BEGIN:VEVENT
UID:70712-20250408@eversley-pc.gov.uk
DTSTAMP:20260421T084026Z
DTSTART;VALUE=DATE:20250408
DTEND;VALUE=DATE:20250409
SUMMARY:Full Council meeting &#8211\\; 8th April 2025
DESCRIPTION:Full Council Meeting\nView details: https://eversley-pc.gov.uk/meetings/full-council-meeting-6/
URL:https://eversley-pc.gov.uk/meetings/full-council-meeting-6/
END:VEVENT
END:VCALENDAR
