BEGIN:VCALENDAR
VERSION:2.0
PRODID:-//Eversley Parish Council//Meeting Calendar//EN
CALSCALE:GREGORIAN
METHOD:PUBLISH
BEGIN:VEVENT
UID:70529-20240109@eversley-pc.gov.uk
DTSTAMP:20260422T084746Z
DTSTART;VALUE=DATE:20240109
DTEND;VALUE=DATE:20240110
SUMMARY:Full Council Meeting &#8211\\; 9th January 2024
DESCRIPTION:Full Council Meeting\nView details: https://eversley-pc.gov.uk/meetings/council-meeting-9th-january-2024/
URL:https://eversley-pc.gov.uk/meetings/council-meeting-9th-january-2024/
END:VEVENT
END:VCALENDAR
